BEGIN:VCALENDAR
VERSION:2.0
PRODID:-//Brant Response Against Violence Everywhere - ECPv5.8.0//NONSGML v1.0//EN
CALSCALE:GREGORIAN
METHOD:PUBLISH
X-WR-CALNAME:Brant Response Against Violence Everywhere
X-ORIGINAL-URL:https://www.brant-brave.org
X-WR-CALDESC:Events for Brant Response Against Violence Everywhere
BEGIN:VTIMEZONE
TZID:America/New_York
BEGIN:DAYLIGHT
TZOFFSETFROM:-0500
TZOFFSETTO:-0400
TZNAME:EDT
DTSTART:20210314T070000
END:DAYLIGHT
BEGIN:STANDARD
TZOFFSETFROM:-0400
TZOFFSETTO:-0500
TZNAME:EST
DTSTART:20211107T060000
END:STANDARD
END:VTIMEZONE
BEGIN:VEVENT
DTSTART;TZID=America/New_York:20211209T183000
DTEND;TZID=America/New_York:20211209T200000
DTSTAMP:20260419T115111
CREATED:20211215T031719Z
LAST-MODIFIED:20211215T034847Z
UID:1003-1639074600-1639080000@www.brant-brave.org
SUMMARY:Unity in Diversity: Human Library Series
DESCRIPTION:  \nNova Vita Domestic Violence Prevention Services and the Brantford Public Library are collaborating to start a new speaker series\, Unity in Diversity: Human Library Series. Throughout this free biweekly series community members will share their diverse experiences through stories and conversations. \nWhen we share experiences and stories we spark a connection\, we learn about each other’s traditions\, practices\, and historical truths\, and we unlearn false and harmful narratives. Stories convey meaning and purpose that help us understand ourselves and our world. Through stories\, we share passions\, fears\, sadness\, hardships\, and joys\, and we find common ground with other people to connect and communicate. \nCome learn about the history of Canada and Brantford\, diverse cultures that shape our community\, and the experiences and challenges of our community members. \nThis series will take place through Zoom webinars biweekly from October 14th\, 2021 till June 23rd\, 2022\, 6:30 to 8:00 PM. Registration is required. This is a FREE event but you MUST REGISTER for each event of the series individually. After you register\, you will receive Zoom information the day of the event.\n*This project has been supported in part by Women and Gender Equality. \n  \nCheck out the List of Speakers & Event Poster \nTo Register: www.brantfordlibrary.ca/unity   \nFor more information\, email Anita Menon: amenon@novavita.org or Zile Ozols: info@brantfordlibrary.ca \n  \nAnita Menon\, BRAVE & Multicultural Community Engagement Coordinator\, amenon@novavita.org \nNova Vita Domestic Violence Prevention Services\, novavita.org\, 519.752.HELP (4357)\, @NovaVitaBrant \n  \nZile Ozols\, Manager – Programming and Partnerships\, info@brantfordlibrary.ca \nBrantford Public Library\, brantfordlibrary.ca\, 519-756-2220\, @BtfdLibrary
URL:https://www.brant-brave.org/event/unity-in-diversity-human-library-series-2021-12-09/
LOCATION:Zoom Webinar
END:VEVENT
END:VCALENDAR