BEGIN:VCALENDAR
VERSION:2.0
PRODID:-//Brant Response Against Violence Everywhere - ECPv5.8.0//NONSGML v1.0//EN
CALSCALE:GREGORIAN
METHOD:PUBLISH
X-WR-CALNAME:Brant Response Against Violence Everywhere
X-ORIGINAL-URL:https://www.brant-brave.org
X-WR-CALDESC:Events for Brant Response Against Violence Everywhere
BEGIN:VTIMEZONE
TZID:America/New_York
BEGIN:DAYLIGHT
TZOFFSETFROM:-0500
TZOFFSETTO:-0400
TZNAME:EDT
DTSTART:20170312T070000
END:DAYLIGHT
BEGIN:STANDARD
TZOFFSETFROM:-0400
TZOFFSETTO:-0500
TZNAME:EST
DTSTART:20171105T060000
END:STANDARD
END:VTIMEZONE
BEGIN:VEVENT
DTSTART;TZID=America/New_York:20170812T120000
DTEND;TZID=America/New_York:20170812T160000
DTSTAMP:20260423T205528
CREATED:20170809T015027Z
LAST-MODIFIED:20170809T015251Z
UID:419-1502539200-1502553600@www.brant-brave.org
SUMMARY:Third Annual Six Nations Pride
DESCRIPTION:
URL:https://www.brant-brave.org/event/third-annual-six-nations-pride/
LOCATION:Six Nations Veteran’s Park\, Ohsweken\, Ontario
END:VEVENT
END:VCALENDAR