BEGIN:VCALENDAR
VERSION:2.0
PRODID:-//Brant Response Against Violence Everywhere - ECPv5.8.0//NONSGML v1.0//EN
CALSCALE:GREGORIAN
METHOD:PUBLISH
X-WR-CALNAME:Brant Response Against Violence Everywhere
X-ORIGINAL-URL:https://www.brant-brave.org
X-WR-CALDESC:Events for Brant Response Against Violence Everywhere
BEGIN:VTIMEZONE
TZID:America/New_York
BEGIN:DAYLIGHT
TZOFFSETFROM:-0500
TZOFFSETTO:-0400
TZNAME:EDT
DTSTART:20170312T070000
END:DAYLIGHT
BEGIN:STANDARD
TZOFFSETFROM:-0400
TZOFFSETTO:-0500
TZNAME:EST
DTSTART:20171105T060000
END:STANDARD
END:VTIMEZONE
BEGIN:VEVENT
DTSTART;TZID=America/New_York:20170930T110000
DTEND;TZID=America/New_York:20170930T150000
DTSTAMP:20260423T140650
CREATED:20170905T185955Z
LAST-MODIFIED:20170905T193520Z
UID:449-1506769200-1506783600@www.brant-brave.org
SUMMARY:Moving Forward Together Survivor's Gathering
DESCRIPTION:The Woodland Cultural Centre invites survivors of the Residential School System from Six Nations\, Northern Ontario\, and Quebec for the first Annual Moving Forward Together Survivor’s Gathering. \nA healing walk in support of survivors will take place down the walkway of Woodland Cultural Centre at 11:00am. Supporters are encouraged to write words of healing and encouragement to survivors along the walk way. Signs are also welcome. \n 
URL:https://www.brant-brave.org/event/moving-forward-together-survivors-gathering/
LOCATION:Woodland Cultural Centre\, 184 Mohawk Street\, Brantford\, N3S 2X2
END:VEVENT
END:VCALENDAR