BEGIN:VCALENDAR
VERSION:2.0
PRODID:-//Brant Response Against Violence Everywhere - ECPv5.8.0//NONSGML v1.0//EN
CALSCALE:GREGORIAN
METHOD:PUBLISH
X-WR-CALNAME:Brant Response Against Violence Everywhere
X-ORIGINAL-URL:https://www.brant-brave.org
X-WR-CALDESC:Events for Brant Response Against Violence Everywhere
BEGIN:VTIMEZONE
TZID:America/New_York
BEGIN:DAYLIGHT
TZOFFSETFROM:-0500
TZOFFSETTO:-0400
TZNAME:EDT
DTSTART:20180311T070000
END:DAYLIGHT
BEGIN:STANDARD
TZOFFSETFROM:-0400
TZOFFSETTO:-0500
TZNAME:EST
DTSTART:20181104T060000
END:STANDARD
END:VTIMEZONE
BEGIN:VEVENT
DTSTART;TZID=America/New_York:20181003T080000
DTEND;TZID=America/New_York:20181005T170000
DTSTAMP:20260422T014245
CREATED:20180823T201435Z
LAST-MODIFIED:20180823T202645Z
UID:687-1538553600-1538758800@www.brant-brave.org
SUMMARY:Making –Building Community by Making Things Together
DESCRIPTION:Making –Building Community by Making Things Together\n  \nAbout Making –Building Community by Making Things Together\n  \nYou are invited to attend  “Making –Building Community by Making Things Together” – a symposium to learn about building community based on our strengths on October 3rd \, 4th and 5th   in Brantford Ontario .  \n  \nWe will be hosting international and local experts to help us to learn about community and inspire new connections to great things here in Brant.  Join us for three days of fun events\, great food and friends.  You will learn why community development is good for you\,  your neighbourhood and City.  We hope to see you all there\, also please  feel free to pass this on to your contacts who you feel would benefit from this symposium. \n  \nBelow is more information on The Making Symposium \, but if you want more details or a presentation to your group of organization \, contact Sara Collyer saracollyer@clbrant.com or Rishia Burke rishiaburke@clbrant.com and we  are  happy to answer any questions or come out and present about Making and/ or Community Development. \n  \nOur Keynote speaker Shani Graham in coming in all the way from Australia and she  is an expert in Sustainability and Community Development. \nGo here to hear her TEDTALK   \nhttp://www.lyrics-youtube.com/lyrics/take-a-street-and-build-a-community-shani-graham-at-tedxperth-C1WSkXWSJac \nShani’s website   \nhttps://ecoburbia.com.au/about/ \nJoe Erpenbeck will be our guide for three days from the ABCD Institute at Northwestern University \nJoe’s Website  http://www.joeerpenbeck.com/ \n  \nTo learn more please visit our Facebook page     https://www.facebook.com/MakingLearnInspiredemostratecelebrate/?ref=aymt_homepage_panel \n  \nMaking Video  https://www.facebook.com/MakingLearnInspiredemostratecelebrate/videos/2159204384365088/ \n  \n  \nREGISTRATION:\nTo register\, contact\nSara Collyer: saracollyer@clbrant.com\nRishia Burke: rishiaburke@clbrant.com \n  \nLocated at Best Western Brantford\n– October 3rd to October 5th\, 2018.\n– Registration closes September 20th\n– Meals included!\n– $100 for those connected to agencies\n– $25 for community members not linked\nto an organization and students
URL:https://www.brant-brave.org/event/making-building-community-making-things-together/
LOCATION:Best Western\, 19 Holiday Dr\, Brantford\, ON\, N3R 7J4\, Canada
END:VEVENT
END:VCALENDAR