BEGIN:VCALENDAR
VERSION:2.0
PRODID:-//Brant Response Against Violence Everywhere - ECPv5.8.0//NONSGML v1.0//EN
CALSCALE:GREGORIAN
METHOD:PUBLISH
X-WR-CALNAME:Brant Response Against Violence Everywhere
X-ORIGINAL-URL:https://www.brant-brave.org
X-WR-CALDESC:Events for Brant Response Against Violence Everywhere
BEGIN:VTIMEZONE
TZID:America/New_York
BEGIN:DAYLIGHT
TZOFFSETFROM:-0500
TZOFFSETTO:-0400
TZNAME:EDT
DTSTART:20170312T070000
END:DAYLIGHT
BEGIN:STANDARD
TZOFFSETFROM:-0400
TZOFFSETTO:-0500
TZNAME:EST
DTSTART:20171105T060000
END:STANDARD
END:VTIMEZONE
BEGIN:VEVENT
DTSTART;TZID=America/New_York:20171108T083000
DTEND;TZID=America/New_York:20171108T130000
DTSTAMP:20260421T121316
CREATED:20171004T185320Z
LAST-MODIFIED:20171004T185320Z
UID:498-1510129800-1510146000@www.brant-brave.org
SUMMARY:Listen so you will understand: Narratives of Indigenous Sexual Violence
DESCRIPTION:This half day training on the impacts of Indigenous sexual violence will include a screening of Indigenous made films on Residential Schools\, MMIW\, human Trafficking\, etc. \nExpected Outcomes: Participants will develop a better understanding of the impacts of sexual violence; develop a more thorough understanding of the differential causes and impacts of sexual violence on Indigenous community; gain an increased understanding of the connection between land violence and sexual violence. \nCost: $10 per person \nPlease register by emailing  vparker@novavita.org
URL:https://www.brant-brave.org/event/listen-will-understand-narratives-indigenous-sexual-violence/
LOCATION:Ganohkwasra Healing Centre\, 1781 Chiefswood Road\, Ohsweken
END:VEVENT
END:VCALENDAR