BEGIN:VCALENDAR
VERSION:2.0
PRODID:-//Brant Response Against Violence Everywhere - ECPv5.8.0//NONSGML v1.0//EN
CALSCALE:GREGORIAN
METHOD:PUBLISH
X-WR-CALNAME:Brant Response Against Violence Everywhere
X-ORIGINAL-URL:https://www.brant-brave.org
X-WR-CALDESC:Events for Brant Response Against Violence Everywhere
BEGIN:VTIMEZONE
TZID:America/New_York
BEGIN:DAYLIGHT
TZOFFSETFROM:-0500
TZOFFSETTO:-0400
TZNAME:EDT
DTSTART:20180311T070000
END:DAYLIGHT
BEGIN:STANDARD
TZOFFSETFROM:-0400
TZOFFSETTO:-0500
TZNAME:EST
DTSTART:20181104T060000
END:STANDARD
END:VTIMEZONE
BEGIN:VEVENT
DTSTART;VALUE=DATE:20180308
DTEND;VALUE=DATE:20180309
DTSTAMP:20260421T163510
CREATED:20180206T173112Z
LAST-MODIFIED:20180206T173112Z
UID:600-1520467200-1520553599@www.brant-brave.org
SUMMARY:International Women's Day
DESCRIPTION:Nova Vita Domestic Violence Prevention Services celebrates International Women’s Day. This year’s event will be an evening to inspire women to personal and professional growth while showcasing and celebrating businesses in our community who want to #PressforProgress. \nMarch 8th is a global movement. It is a day for everyone to celebrate the social\, economic\, cultural and political achievements of women. Since the first day it was honoured in 1911\, the world has experienced a significant shift towards gender equality. But there is still more work to do. \nMore details to follow. \n 
URL:https://www.brant-brave.org/event/international-womens-day/
END:VEVENT
END:VCALENDAR