BEGIN:VCALENDAR
VERSION:2.0
PRODID:-//Brant Response Against Violence Everywhere - ECPv5.8.0//NONSGML v1.0//EN
CALSCALE:GREGORIAN
METHOD:PUBLISH
X-WR-CALNAME:Brant Response Against Violence Everywhere
X-ORIGINAL-URL:https://www.brant-brave.org
X-WR-CALDESC:Events for Brant Response Against Violence Everywhere
BEGIN:VTIMEZONE
TZID:America/New_York
BEGIN:DAYLIGHT
TZOFFSETFROM:-0500
TZOFFSETTO:-0400
TZNAME:EDT
DTSTART:20170312T070000
END:DAYLIGHT
BEGIN:STANDARD
TZOFFSETFROM:-0400
TZOFFSETTO:-0500
TZNAME:EST
DTSTART:20171105T060000
END:STANDARD
END:VTIMEZONE
BEGIN:VEVENT
DTSTART;TZID=America/New_York:20171017T083000
DTEND;TZID=America/New_York:20171017T120000
DTSTAMP:20260423T084943
CREATED:20170809T021245Z
LAST-MODIFIED:20170809T021245Z
UID:427-1508229000-1508241600@www.brant-brave.org
SUMMARY:International Day for the Eradication of Poverty: Action Against Poverty Forum
DESCRIPTION:This FREE local forum will highlight the work of Brantford Welcome In and explore programmes that attempt to create inclusion\, address issues of access\, and provide opportunity to address the social determinants of health. \nPlease register with Carrie Sinkowski by emailing sinkowc@lao.on.ca  \n \n 
URL:https://www.brant-brave.org/event/international-day-eradication-poverty-action-poverty-forum/
LOCATION:YES Church\, 305 West Street\, Brantford\, Ontario\, N3R 3V6
END:VEVENT
END:VCALENDAR