BEGIN:VCALENDAR
VERSION:2.0
PRODID:-//Brant Response Against Violence Everywhere - ECPv5.8.0//NONSGML v1.0//EN
CALSCALE:GREGORIAN
METHOD:PUBLISH
X-WR-CALNAME:Brant Response Against Violence Everywhere
X-ORIGINAL-URL:https://www.brant-brave.org
X-WR-CALDESC:Events for Brant Response Against Violence Everywhere
BEGIN:VTIMEZONE
TZID:America/New_York
BEGIN:DAYLIGHT
TZOFFSETFROM:-0500
TZOFFSETTO:-0400
TZNAME:EDT
DTSTART:20170312T070000
END:DAYLIGHT
BEGIN:STANDARD
TZOFFSETFROM:-0400
TZOFFSETTO:-0500
TZNAME:EST
DTSTART:20171105T060000
END:STANDARD
END:VTIMEZONE
BEGIN:VEVENT
DTSTART;TZID=America/New_York:20170927T100000
DTEND;TZID=America/New_York:20170927T130000
DTSTAMP:20260423T191022
CREATED:20170816T203337Z
LAST-MODIFIED:20170816T203337Z
UID:435-1506506400-1506517200@www.brant-brave.org
SUMMARY:Information & Awareness Session on Violence Against Immigrant & Refugee Communities
DESCRIPTION:
URL:https://www.brant-brave.org/event/information-awareness-session-violence-immigrant-refugee-communities/
LOCATION:Brantford Public Library\, 173 Colborne Street\, Brantford\, ON\, N3T2G8
END:VEVENT
END:VCALENDAR